BEGIN:VCALENDAR
VERSION:2.0
PRODID:-//WeinSTAMM - ECPv6.15.17.1//NONSGML v1.0//EN
CALSCALE:GREGORIAN
METHOD:PUBLISH
X-WR-CALNAME:WeinSTAMM
X-ORIGINAL-URL:https://weinstamm.ch
X-WR-CALDESC:Veranstaltungen für WeinSTAMM
REFRESH-INTERVAL;VALUE=DURATION:PT1H
X-Robots-Tag:noindex
X-PUBLISHED-TTL:PT1H
BEGIN:VTIMEZONE
TZID:Europe/Berlin
BEGIN:DAYLIGHT
TZOFFSETFROM:+0100
TZOFFSETTO:+0200
TZNAME:CEST
DTSTART:20230326T010000
END:DAYLIGHT
BEGIN:STANDARD
TZOFFSETFROM:+0200
TZOFFSETTO:+0100
TZNAME:CET
DTSTART:20231029T010000
END:STANDARD
BEGIN:DAYLIGHT
TZOFFSETFROM:+0100
TZOFFSETTO:+0200
TZNAME:CEST
DTSTART:20240331T010000
END:DAYLIGHT
BEGIN:STANDARD
TZOFFSETFROM:+0200
TZOFFSETTO:+0100
TZNAME:CET
DTSTART:20241027T010000
END:STANDARD
BEGIN:DAYLIGHT
TZOFFSETFROM:+0100
TZOFFSETTO:+0200
TZNAME:CEST
DTSTART:20250330T010000
END:DAYLIGHT
BEGIN:STANDARD
TZOFFSETFROM:+0200
TZOFFSETTO:+0100
TZNAME:CET
DTSTART:20251026T010000
END:STANDARD
END:VTIMEZONE
BEGIN:VEVENT
DTSTART;TZID=Europe/Berlin:20240518T140000
DTEND;TZID=Europe/Berlin:20240518T173000
DTSTAMP:20260421T214731
CREATED:20240425T074544Z
LAST-MODIFIED:20240513T154249Z
UID:22795-1716040800-1716053400@weinstamm.ch
SUMMARY:Wald & Wein
DESCRIPTION:Zwischen Blätterwerk und Weingenuss – erleben Sie\, welchen Einfluss Holz auf den Wein hat und verkosten Sie verschiedene Weine. \n  \nTreffpunkt: 14.00 Uhr Tonwerk \nMitbringen: gutes Schuhwerk\, Kleidung gemäss Witterung\,  ID/Pass \nAnmeldung: info@weinstamm.ch bis 15.05. \n(Bitte geben Sie Allergien oder Essgewohnheiten bei der Anmeldung bekannt) \nTeilnehmerzahl: Maximal 20 Personen \n  \nProgramm: \n14:00 – 14:30 Uhr: Willommensapéro: Geschichte zu Weinstamm und Wald\, Holz in der Weinmanufaktur \n14:30 – 15:30 Uhr: Besichtigung Waldstück / Reben \n15:30 – 16:30 Uhr: Degustation im Barriquekeller \n16:30 – 17:30 Uhr:  Zvieri und Ausklang \n  \n 
URL:https://weinstamm.ch/event/wald-wein/
LOCATION:Wald
END:VEVENT
END:VCALENDAR