BEGIN:VCALENDAR
VERSION:2.0
PRODID:-//WeinSTAMM - ECPv6.15.20//NONSGML v1.0//EN
CALSCALE:GREGORIAN
METHOD:PUBLISH
X-ORIGINAL-URL:https://weinstamm.ch
X-WR-CALDESC:Veranstaltungen für WeinSTAMM
REFRESH-INTERVAL;VALUE=DURATION:PT1H
X-Robots-Tag:noindex
X-PUBLISHED-TTL:PT1H
BEGIN:VTIMEZONE
TZID:Europe/Berlin
BEGIN:DAYLIGHT
TZOFFSETFROM:+0100
TZOFFSETTO:+0200
TZNAME:CEST
DTSTART:20210328T010000
END:DAYLIGHT
BEGIN:STANDARD
TZOFFSETFROM:+0200
TZOFFSETTO:+0100
TZNAME:CET
DTSTART:20211031T010000
END:STANDARD
BEGIN:DAYLIGHT
TZOFFSETFROM:+0100
TZOFFSETTO:+0200
TZNAME:CEST
DTSTART:20220327T010000
END:DAYLIGHT
BEGIN:STANDARD
TZOFFSETFROM:+0200
TZOFFSETTO:+0100
TZNAME:CET
DTSTART:20221030T010000
END:STANDARD
BEGIN:DAYLIGHT
TZOFFSETFROM:+0100
TZOFFSETTO:+0200
TZNAME:CEST
DTSTART:20230326T010000
END:DAYLIGHT
BEGIN:STANDARD
TZOFFSETFROM:+0200
TZOFFSETTO:+0100
TZNAME:CET
DTSTART:20231029T010000
END:STANDARD
END:VTIMEZONE
BEGIN:VEVENT
DTSTART;VALUE=DATE:20220331
DTEND;VALUE=DATE:20220408
DTSTAMP:20260425T161355
CREATED:20220321T080024Z
LAST-MODIFIED:20220329T052531Z
UID:18887-1648684800-1649375999@weinstamm.ch
SUMMARY:Expovina Primavera
DESCRIPTION:Wir sind vom 31. März bis zum 7. April an der Frühlings-Weinmesse am Stand B3! Kommen Sie und entdecken Sie unsere vielseitigen Weine.
URL:https://weinstamm.ch/event/expovina-primavera/
LOCATION:Expovina Primavera\, PULS 5 - Giessereistrasse 18\, Zürich\, 8005
CATEGORIES:Messe
END:VEVENT
BEGIN:VEVENT
DTSTART;VALUE=DATE:20220406
DTEND;VALUE=DATE:20220412
DTSTAMP:20260425T161355
CREATED:20220321T080217Z
LAST-MODIFIED:20220329T052757Z
UID:18890-1649203200-1649721599@weinstamm.ch
SUMMARY:Salon Divinum
DESCRIPTION:Vom 6. bis 11. April sind wir an der Divinum Weinmesse in Morges. Kommen Sie vorbei und entdecken Sie unsere vielfältigen Weine an Stand Nr. 1
URL:https://weinstamm.ch/event/salon-divinum/
LOCATION:Salon Divinum\, Parc des Sports\, 1110 Morges\, Waadt\, Switzerland
CATEGORIES:Messe
END:VEVENT
BEGIN:VEVENT
DTSTART;TZID=Europe/Berlin:20220429T160000
DTEND;TZID=Europe/Berlin:20220429T200000
DTSTAMP:20260425T161355
CREATED:20220321T075000Z
LAST-MODIFIED:20220328T064354Z
UID:18884-1651248000-1651262400@weinstamm.ch
SUMMARY:Tag der offenen Kellertür
DESCRIPTION:
URL:https://weinstamm.ch/event/tag-der-offenen-weinkeller/
LOCATION:WeinSTAMM\, Tonwerkstrasse 4\, Thayngen\, Schaffhausen\, 8200
CATEGORIES:Tag der offenen Tür
END:VEVENT
END:VCALENDAR