BEGIN:VCALENDAR
VERSION:2.0
PRODID:-//WeinSTAMM - ECPv6.15.20//NONSGML v1.0//EN
CALSCALE:GREGORIAN
METHOD:PUBLISH
X-ORIGINAL-URL:https://weinstamm.ch
X-WR-CALDESC:Veranstaltungen für WeinSTAMM
REFRESH-INTERVAL;VALUE=DURATION:PT1H
X-Robots-Tag:noindex
X-PUBLISHED-TTL:PT1H
BEGIN:VTIMEZONE
TZID:Europe/Berlin
BEGIN:DAYLIGHT
TZOFFSETFROM:+0100
TZOFFSETTO:+0200
TZNAME:CEST
DTSTART:20210328T010000
END:DAYLIGHT
BEGIN:STANDARD
TZOFFSETFROM:+0200
TZOFFSETTO:+0100
TZNAME:CET
DTSTART:20211031T010000
END:STANDARD
BEGIN:DAYLIGHT
TZOFFSETFROM:+0100
TZOFFSETTO:+0200
TZNAME:CEST
DTSTART:20220327T010000
END:DAYLIGHT
BEGIN:STANDARD
TZOFFSETFROM:+0200
TZOFFSETTO:+0100
TZNAME:CET
DTSTART:20221030T010000
END:STANDARD
BEGIN:DAYLIGHT
TZOFFSETFROM:+0100
TZOFFSETTO:+0200
TZNAME:CEST
DTSTART:20230326T010000
END:DAYLIGHT
BEGIN:STANDARD
TZOFFSETFROM:+0200
TZOFFSETTO:+0100
TZNAME:CET
DTSTART:20231029T010000
END:STANDARD
END:VTIMEZONE
BEGIN:VEVENT
DTSTART;VALUE=DATE:20221103
DTEND;VALUE=DATE:20221118
DTSTAMP:20260425T050403
CREATED:20220906T124249Z
LAST-MODIFIED:20220906T124249Z
UID:19134-1667433600-1668729599@weinstamm.ch
SUMMARY:EXPOVINA WEINSCHIFF
DESCRIPTION:Vom 3. bis 17.  November 2022 sind wir mit unseren Spitzenweinen an der 67. Zürcher Wein-Ausstellung auf dem Hauptdeck Nr. 716. Wir freuen uns Sie auf dem Weinschiff zu begrüssen. \n 
URL:https://weinstamm.ch/event/expovina-weinschiff-2/
LOCATION:Schaffhausen
CATEGORIES:Messe
END:VEVENT
BEGIN:VEVENT
DTSTART;VALUE=DATE:20221118
DTEND;VALUE=DATE:20221120
DTSTAMP:20260425T050403
CREATED:20220906T124503Z
LAST-MODIFIED:20230712T061757Z
UID:19136-1668729600-1668902399@weinstamm.ch
SUMMARY:Festivins
DESCRIPTION:Besuchen Sie uns an der 23. Ausgabe von FESTIVINS in Belfaux.
URL:https://weinstamm.ch/event/festivins-2/
LOCATION:Salon Festivins\, Rte de l'Eglise 1\, Belfaux\, Freiburg\, 1782\, Switzerland
CATEGORIES:Messe
END:VEVENT
BEGIN:VEVENT
DTSTART;TZID=Europe/Berlin:20221125T160000
DTEND;TZID=Europe/Berlin:20221125T200000
DTSTAMP:20260425T050403
CREATED:20220328T064457Z
LAST-MODIFIED:20220906T131613Z
UID:18903-1669392000-1669406400@weinstamm.ch
SUMMARY:Tag der offenen Kellertür
DESCRIPTION:
URL:https://weinstamm.ch/event/tag-der-offenen-kellertuer/
LOCATION:WeinSTAMM\, Tonwerkstrasse 4\, Thayngen\, Schaffhausen\, 8200
CATEGORIES:Tag der offenen Tür
END:VEVENT
BEGIN:VEVENT
DTSTART;TZID=Europe/Berlin:20221126T100000
DTEND;TZID=Europe/Berlin:20221126T200000
DTSTAMP:20260425T050403
CREATED:20220906T131658Z
LAST-MODIFIED:20220906T131658Z
UID:19141-1669456800-1669492800@weinstamm.ch
SUMMARY:Tag der offenen Kellertür
DESCRIPTION:
URL:https://weinstamm.ch/event/tag-der-offenen-kellertuer-3/
LOCATION:WeinSTAMM\, Tonwerkstrasse 4\, Thayngen\, Schaffhausen\, 8200
CATEGORIES:Tag der offenen Tür
END:VEVENT
BEGIN:VEVENT
DTSTART;TZID=Europe/Berlin:20221127T100000
DTEND;TZID=Europe/Berlin:20221127T170000
DTSTAMP:20260425T050403
CREATED:20220906T131737Z
LAST-MODIFIED:20220906T131737Z
UID:19143-1669543200-1669568400@weinstamm.ch
SUMMARY:Tag der offenen Kellertür
DESCRIPTION:
URL:https://weinstamm.ch/event/tag-der-offenen-kellertuer-4/
LOCATION:WeinSTAMM\, Tonwerkstrasse 4\, Thayngen\, Schaffhausen\, 8200
CATEGORIES:Tag der offenen Tür
END:VEVENT
END:VCALENDAR