BEGIN:VCALENDAR
VERSION:2.0
PRODID:-//WeinSTAMM - ECPv6.15.17.1//NONSGML v1.0//EN
CALSCALE:GREGORIAN
METHOD:PUBLISH
X-WR-CALNAME:WeinSTAMM
X-ORIGINAL-URL:https://weinstamm.ch
X-WR-CALDESC:Veranstaltungen für WeinSTAMM
REFRESH-INTERVAL;VALUE=DURATION:PT1H
X-Robots-Tag:noindex
X-PUBLISHED-TTL:PT1H
BEGIN:VTIMEZONE
TZID:Europe/Berlin
BEGIN:DAYLIGHT
TZOFFSETFROM:+0100
TZOFFSETTO:+0200
TZNAME:CEST
DTSTART:20230326T010000
END:DAYLIGHT
BEGIN:STANDARD
TZOFFSETFROM:+0200
TZOFFSETTO:+0100
TZNAME:CET
DTSTART:20231029T010000
END:STANDARD
BEGIN:DAYLIGHT
TZOFFSETFROM:+0100
TZOFFSETTO:+0200
TZNAME:CEST
DTSTART:20240331T010000
END:DAYLIGHT
BEGIN:STANDARD
TZOFFSETFROM:+0200
TZOFFSETTO:+0100
TZNAME:CET
DTSTART:20241027T010000
END:STANDARD
BEGIN:DAYLIGHT
TZOFFSETFROM:+0100
TZOFFSETTO:+0200
TZNAME:CEST
DTSTART:20250330T010000
END:DAYLIGHT
BEGIN:STANDARD
TZOFFSETFROM:+0200
TZOFFSETTO:+0100
TZNAME:CET
DTSTART:20251026T010000
END:STANDARD
END:VTIMEZONE
BEGIN:VEVENT
DTSTART;TZID=Europe/Berlin:20240612T180000
DTEND;TZID=Europe/Berlin:20240612T233000
DTSTAMP:20260421T181636
CREATED:20240604T090326Z
LAST-MODIFIED:20240604T090326Z
UID:23477-1718215200-1718235000@weinstamm.ch
SUMMARY:Wine & Dine in der «VILLA Schweizerhof»\, Luzern
DESCRIPTION:Erleben Sie WeinSTAMM!\nBesuchen Sie uns zum Winzerpalaver am Mittwoch\, 12. Juni 2024 um 18:00 Uhr in der «VILLA Schweizerhof» und seien Sie dabei\, wenn Ihnen Markus Stamm die regionalen Spitzenweine aus Schaffhausen näher vorstellt.\n\n\nWir nehmen uns die Zeit Ihnen unser Handwerk und unsere Produkte näherzubringen- geniessen Sie einen interessanten Abend mit uns.\n\nUm Ihr Geschmackserlebnis abzurunden\, erwartet Sie ein sorgfältig ausgewähltes 6-Gang Sommermenu\,\nzusammengestellt von Küchenchef Marcel Ineichen und seinem Team.\n\nMarkus Stamm freut sich gemeinsam mit dem VILLA Schweizerhof Team Sie an diesem wunderbaren\nWine & Dine Abend begrüssen zu dürfen.
URL:https://weinstamm.ch/event/wine-dine-in-der-villa-schweizerhof-luzern/
LOCATION:villa schweizerhof\, Haldenstrasse 30\, Luzern\, Luzern\, 6006\, Schweiz
CATEGORIES:Degustation
END:VEVENT
END:VCALENDAR