BEGIN:VCALENDAR
VERSION:2.0
PRODID:-//WeinSTAMM - ECPv6.15.17.1//NONSGML v1.0//EN
CALSCALE:GREGORIAN
METHOD:PUBLISH
X-WR-CALNAME:WeinSTAMM
X-ORIGINAL-URL:https://weinstamm.ch
X-WR-CALDESC:Veranstaltungen für WeinSTAMM
REFRESH-INTERVAL;VALUE=DURATION:PT1H
X-Robots-Tag:noindex
X-PUBLISHED-TTL:PT1H
BEGIN:VTIMEZONE
TZID:Europe/Berlin
BEGIN:DAYLIGHT
TZOFFSETFROM:+0100
TZOFFSETTO:+0200
TZNAME:CEST
DTSTART:20200329T010000
END:DAYLIGHT
BEGIN:STANDARD
TZOFFSETFROM:+0200
TZOFFSETTO:+0100
TZNAME:CET
DTSTART:20201025T010000
END:STANDARD
BEGIN:DAYLIGHT
TZOFFSETFROM:+0100
TZOFFSETTO:+0200
TZNAME:CEST
DTSTART:20210328T010000
END:DAYLIGHT
BEGIN:STANDARD
TZOFFSETFROM:+0200
TZOFFSETTO:+0100
TZNAME:CET
DTSTART:20211031T010000
END:STANDARD
BEGIN:DAYLIGHT
TZOFFSETFROM:+0100
TZOFFSETTO:+0200
TZNAME:CEST
DTSTART:20220327T010000
END:DAYLIGHT
BEGIN:STANDARD
TZOFFSETFROM:+0200
TZOFFSETTO:+0100
TZNAME:CET
DTSTART:20221030T010000
END:STANDARD
END:VTIMEZONE
BEGIN:VEVENT
DTSTART;TZID=Europe/Berlin:20211105T160000
DTEND;TZID=Europe/Berlin:20211106T140000
DTSTAMP:20260421T231031
CREATED:20211004T063404Z
LAST-MODIFIED:20211005T055117Z
UID:18523-1636128000-1636207200@weinstamm.ch
SUMMARY:Freie Degustation
DESCRIPTION:Möchten Sie von einem individuellen Degustationserlebnis profitieren? Dann kommen Sie jeweils am ersten Wochenende des Monats zu unseren freien Degustationen in unserem Laden. Es gibt keine Verpflegung – dafür genügend Wein und Wasser. \nFreitag\, 05. November 2021: 16-19 Uhr \nSamstag\, 06. November 2021: 10-14 Uhr
URL:https://weinstamm.ch/event/051121-freie-degustation/
LOCATION:WeinSTAMM\, Tonwerkstrasse 4\, Thayngen\, Schaffhausen\, 8200
CATEGORIES:Degustation
END:VEVENT
END:VCALENDAR