BEGIN:VCALENDAR
VERSION:2.0
PRODID:-//WeinSTAMM - ECPv6.15.17.1//NONSGML v1.0//EN
CALSCALE:GREGORIAN
METHOD:PUBLISH
X-WR-CALNAME:WeinSTAMM
X-ORIGINAL-URL:https://weinstamm.ch
X-WR-CALDESC:Veranstaltungen für WeinSTAMM
REFRESH-INTERVAL;VALUE=DURATION:PT1H
X-Robots-Tag:noindex
X-PUBLISHED-TTL:PT1H
BEGIN:VTIMEZONE
TZID:Europe/Berlin
BEGIN:DAYLIGHT
TZOFFSETFROM:+0100
TZOFFSETTO:+0200
TZNAME:CEST
DTSTART:20220327T010000
END:DAYLIGHT
BEGIN:STANDARD
TZOFFSETFROM:+0200
TZOFFSETTO:+0100
TZNAME:CET
DTSTART:20221030T010000
END:STANDARD
BEGIN:DAYLIGHT
TZOFFSETFROM:+0100
TZOFFSETTO:+0200
TZNAME:CEST
DTSTART:20230326T010000
END:DAYLIGHT
BEGIN:STANDARD
TZOFFSETFROM:+0200
TZOFFSETTO:+0100
TZNAME:CET
DTSTART:20231029T010000
END:STANDARD
BEGIN:DAYLIGHT
TZOFFSETFROM:+0100
TZOFFSETTO:+0200
TZNAME:CEST
DTSTART:20240331T010000
END:DAYLIGHT
BEGIN:STANDARD
TZOFFSETFROM:+0200
TZOFFSETTO:+0100
TZNAME:CET
DTSTART:20241027T010000
END:STANDARD
END:VTIMEZONE
BEGIN:VEVENT
DTSTART;VALUE=DATE:20230330
DTEND;VALUE=DATE:20230407
DTSTAMP:20260424T122900
CREATED:20230328T093616Z
LAST-MODIFIED:20230328T143933Z
UID:19456-1680134400-1680825599@weinstamm.ch
SUMMARY:Expovina Primavera
DESCRIPTION:Wir sind vom 30. März bis zum 6. April an der Frühlings-Weinmesse am Stand B03! Kommen Sie und entdecken Sie unsere vielseitigen Weine.
URL:https://weinstamm.ch/event/expovina-primavera-2/
LOCATION:Expovina Primavera\, PULS 5 - Giessereistrasse 18\, Zürich\, 8005
CATEGORIES:Messe
END:VEVENT
END:VCALENDAR